BEGIN:VCALENDAR
VERSION:2.0
PRODID:https://www.eco.de/event/future-thinking-2016/
BEGIN:VEVENT
UID:8915
DTSTAMP:20260424T211832
DTSTART:20160419T000000
DTEND:20160420T000000
SUMMARY:future thinking 2016
LOCATION:
ORGANIZER:eco
URL:https://www.eco.de/event/future-thinking-2016/
DESCRIPTION:future thinking 2016
END:VEVENT
END:VCALENDAR
