BEGIN:VCALENDAR
VERSION:2.0
PRODID:https://www.eco.de/event/kg-anti-abuse-dnssec/
BEGIN:VEVENT
UID:90046
DTSTAMP:20260421T040333
DTSTART:20190410T123000
DTEND:20190410T180000
SUMMARY:KG – Anti Abuse - DNSSEC
LOCATION:eco - Verband der Internetwirtschaft e.V.\, Lichtstraße 43h\, 50825 Köln
ORGANIZER:eco
URL:https://www.eco.de/event/kg-anti-abuse-dnssec/
DESCRIPTION:KG – Anti Abuse - DNSSEC
END:VEVENT
END:VCALENDAR
