BEGIN:VCALENDAR
VERSION:2.0
PRODID:https://www.eco.de/event/cologne-it-summit-2016/
BEGIN:VEVENT
UID:9248
DTSTAMP:20260425T025653
DTSTART:20160128T000000
DTEND:20260425T025653
SUMMARY:cologne IT summit 2016
LOCATION:
ORGANIZER:eco
URL:https://www.eco.de/event/cologne-it-summit-2016/
DESCRIPTION:cologne IT summit 2016
END:VEVENT
END:VCALENDAR
