BEGIN:VCALENDAR
VERSION:2.0
PRODID:https://www.eco.de/event/germany-connect-2016/
BEGIN:VEVENT
UID:9296
DTSTAMP:20260425T042923
DTSTART:20160126T000000
DTEND:20160127T000000
SUMMARY:GERMANY CONNECT 2016
LOCATION:
ORGANIZER:eco
URL:https://www.eco.de/event/germany-connect-2016/
DESCRIPTION:GERMANY CONNECT 2016
END:VEVENT
END:VCALENDAR
