BEGIN:VCALENDAR
VERSION:2.0
PRODID:https://www.eco.de/event/angacom-2016/
BEGIN:VEVENT
UID:9380
DTSTAMP:20260424T160040
DTSTART:20160607T000000
DTEND:20160609T000000
SUMMARY:ANGACOM 2016
LOCATION:
ORGANIZER:eco
URL:https://www.eco.de/event/angacom-2016/
DESCRIPTION:ANGACOM 2016
END:VEVENT
END:VCALENDAR
