BEGIN:VCALENDAR
VERSION:2.0
PRODID:https://www.eco.de/event/datacenterdynamics-at-cebit/
BEGIN:VEVENT
UID:9477
DTSTAMP:20260425T005606
DTSTART:20160314T000000
DTEND:20260425T005606
SUMMARY:DatacenterDynamics at CeBIT
LOCATION:
ORGANIZER:eco
URL:https://www.eco.de/event/datacenterdynamics-at-cebit/
DESCRIPTION:DatacenterDynamics at CeBIT
END:VEVENT
END:VCALENDAR
