BEGIN:VCALENDAR
VERSION:2.0
PRODID:https://www.eco.de/event/econnect-on-tour-2-2/
BEGIN:VEVENT
UID:9482
DTSTAMP:20260424T082427
DTSTART:20160622T000000
DTEND:20160623T000000
SUMMARY:econnect on Tour – 2016
LOCATION:
ORGANIZER:eco
URL:https://www.eco.de/event/econnect-on-tour-2-2/
DESCRIPTION:econnect on Tour – 2016
END:VEVENT
END:VCALENDAR
