BEGIN:VCALENDAR
VERSION:2.0
PRODID:https://www.eco.de/event/die-datacenter-branche-in-zeiten-der-konsolidierung/
BEGIN:VEVENT
UID:9588
DTSTAMP:20260425T005521
DTSTART:20160216T130000
DTEND:20260425T005521
SUMMARY:Die Datacenter-Branche in Zeiten der Konsolidierung
LOCATION:Kontorhaus\, Lindleystraße 12\, 60314 Frankfurt
ORGANIZER:eco
URL:https://www.eco.de/event/die-datacenter-branche-in-zeiten-der-konsolidierung/
DESCRIPTION:Die Datacenter-Branche in Zeiten der Konsolidierung
END:VEVENT
END:VCALENDAR
