BEGIN:VCALENDAR
VERSION:2.0
PRODID:https://www.eco.de/event/workshop-risikomanagement-im-digital-lab-der-ihk-koeln/
BEGIN:VEVENT
UID:96104
DTSTAMP:20260420T082250
DTSTART:20190711T090000
DTEND:20190711T140000
SUMMARY:Workshop Cyber-Risikomanagement im Digital Lab der IHK Köln
LOCATION:
ORGANIZER:eco
URL:https://www.eco.de/event/workshop-risikomanagement-im-digital-lab-der-ihk-koeln/
DESCRIPTION:Workshop Cyber-Risikomanagement im Digital Lab der IHK Köln
END:VEVENT
END:VCALENDAR
