BEGIN:VCALENDAR
VERSION:2.0
PRODID:https://www.eco.de/event/whd-global-worldhostingdays-2016/
BEGIN:VEVENT
UID:9672
DTSTAMP:20260425T003913
DTSTART:20160315T000000
DTEND:20160317T000000
SUMMARY:WHD.global 2016
LOCATION:
ORGANIZER:eco
URL:https://www.eco.de/event/whd-global-worldhostingdays-2016/
DESCRIPTION:WHD.global 2016
END:VEVENT
END:VCALENDAR
