BEGIN:VCALENDAR
VERSION:2.0
PRODID:https://www.eco.de/event/cee-gccm-berlin-2016/
BEGIN:VEVENT
UID:9785
DTSTAMP:20260424T082948
DTSTART:20160628T000000
DTEND:20160629T000000
SUMMARY:CEE GCCM Berlin 2016
LOCATION:
ORGANIZER:eco
URL:https://www.eco.de/event/cee-gccm-berlin-2016/
DESCRIPTION:CEE GCCM Berlin 2016
END:VEVENT
END:VCALENDAR
