BEGIN:VCALENDAR
VERSION:2.0
PRODID:https://www.eco.de/event/edge-computing-entwicklungen-treiber-geschaeftsmodelle/
BEGIN:VEVENT
UID:98117
DTSTAMP:20260421T085039
DTSTART:20190903T130000
DTEND:20190903T170000
SUMMARY:EDGE Computing – Entwicklungen\, Treiber\, Geschäftsmodelle
LOCATION:DE-CIX Meeting Center\, Lindleystraße 12\, 60314 Frankfurt
ORGANIZER:eco
URL:https://www.eco.de/event/edge-computing-entwicklungen-treiber-geschaeftsmodelle/
DESCRIPTION:EDGE Computing – Entwicklungen\, Treiber\, Geschäftsmodelle
END:VEVENT
END:VCALENDAR
