BEGIN:VCALENDAR
VERSION:2.0
PRODID:https://www.eco.de/event/network-16/
BEGIN:VEVENT
UID:9840
DTSTAMP:20260424T194532
DTSTART:20160426T000000
DTEND:20160427T000000
SUMMARY:NetWork ’16
LOCATION:
ORGANIZER:eco
URL:https://www.eco.de/event/network-16/
DESCRIPTION:NetWork ’16
END:VEVENT
END:VCALENDAR
